BEGIN:VCALENDAR
VERSION:2.0
PRODID:icalendar-ruby
CALSCALE:GREGORIAN
METHOD:PUBLISH
BEGIN:VEVENT
DTSTAMP:20260425T155351Z
UID:41-1579@stjohnscathedral.org.au
DTSTART:20260619T233000Z
DTEND:20260620T050000Z
CLASS:PUBLIC
CREATED:20260423T095511
DESCRIPTION:Saturday 20 June\, 2026\nThe book of Jonah is full of unexpecte
 d twists and turns\, and finishes with an intriguing cliff hanger. It invi
 tes us to reflect more deeply on ourselves and the mystery of God’s merc
 y\nJoin the women of St John’s on Saturday 20 June\, 9:30am–3pm\, in t
 he Parish Hall as we gather to hear from The Book of Jonah\, be encouraged
  by God’s promises\, and enjoy fellowship together. All women are welcom
 e – come and be refreshed by God’s truth!\nRegistration opens soon\n\n
 \nEarly bird (until Sunday 14 June)\n\nAdults: $25 for EQUIP registration
 \, morning tea and lunch\nTeens (school years 7-12): $5 for morning tea a
 nd lunch. Teens watch for free. \n\nLate registrations (from Monday 15 Ju
 ne)\n\nAdults: $30 for EQUIP registration\, morning tea and lunch\nTeens 
 (school years 7-12): $10 for morning tea and lunch. Teens watch for free.
  \n\nEQUIP Hub\nWe are offering St John’s as an EQUIP hub this year\, s
 o we may have women from the local area coming to join us. We have limited
  capacity in the hall\, so get in quick so you don’t miss out!\nAre you 
 under 18 years old?\nEQUIP Women's conference is for women and girls of al
 l ages. If you are under 18 years old\, you must be accompanied by your mo
 ther/guardian or bring a letter with your parent's permission to participa
 te.\nTransport &amp\; Accessibility\n\nParking will be available on-site o
 n a first-come\, first-served basis. If you have mobility issues\, please 
 let us know beforehand\, and we’ll reserve a spot for you.\nIf you can g
 ive someone a lift to St John’s\, there’s an option to indicate this o
 n the registration form.\nIf you need a lift to St John’s\, you can indi
 cate this on the registration form. \nAccessibility: There is disabled ac
 cess to the Parish Hall and a disabled toilet nearby.\n\nIf you need help 
 covering the cost of attending EQUIP\, please contact us.\n\n
LAST-MODIFIED:20260423T095511
LOCATION:Parish Hall
SUMMARY:EQUIP Women's Conference
URL;VALUE=URI:https://www.stjohnscathedral.org.au/events/equip-womens-confe
 rence--41/2026-06-20
ATTACH;FILENAME=Equip 26 - Save the date-3.jpg;FMTTYPE=image/jpeg:https://d
 q5pwpg1q8ru0.cloudfront.net/2026/04/22/23/55/10/9342eb15-bdb6-482e-b19c-fe
 7b8b906657/Equip%2026%20-%20Save%20the%20date-3.jpg
END:VEVENT
END:VCALENDAR
